BEGIN:VCALENDAR
VERSION:2.0
PRODID:-//hacksw/handcal//NONSGML v1.0//EN
CALSCALE:GREGORIAN
BEGIN:VEVENT
LOCATION:BCG Offiice Wien
DESCRIPTION:Ob Business Analytics\, MINT\, Jus\, Wirtschaft oder Psychologie – in der Group hat jede:r einen Platz. Erhalte einen exklusiven Einblick in das\, was dich im Consulting bei einer der weltweit führenden Strategieberatungen erwartet – und lerne die Menschen kennen\, die BCG ausmachen.
Im Workshop „Build Your Personal Brand“ schärfst du dein persönliches Profil und lernst\, deine Stärken gezielt zu zeigen und einzusetzen. So positionierst du dich klar und selbstbewusst für deinen nächsten Karriereschritt – und alles\, was noch vor dir liegt. Beim Praxisgruppen-Speeddating erhältst du aus erster Hand Einblicke in unterschiedliche inhaltliche Schwerpunkte\, von strategischen Fragestellungen bis hin zu datengetriebenen Themen. So bekommst du ein Gefühl dafür\, welche Bereiche besonders gut zu deinen Interessen und Stärken passen. Das anschließende Networking-Dinner gibt dir die Möglichkeit\, dich in entspannter Atmosphäre weiter auszutauschen\, Fragen zu stellen und herauszufinden\, welche vielfältigen Perspektiven sich dir bei BCG eröffnen – und welchen Beitrag du mit deiner Perspektive bei uns leisten kannst.
Interessiert? Dann bewirb dich bis zum 17. Mai mit deinem CV (inkl. Notenangaben für Matura und Studium) direkt auf der Website.
Join the Group.
Janina von Pozniak\, + 43 676 5797302\, vonPozniak.Janina@bcg.com
Vortragende


Alisia Botthof Projektleiterin 



Janine GöschlConsultant



Mario Micu-BudisteanuProjektleiter



Tonio KawaseConsultant




Die Boston Consulting Group ist ein Equal Opportunity Employer. Alle qualifizierten Bewerber*innen werden unabhängig von ethnischer und sozialer Herkunft\, Alter\, Geschlecht\, sexueller Identität\, Religion\, Weltanschauung oder einer Behinderung berücksichtigt.
SUMMARY:Build Your Personal Brand
DTSTART:20260529T130000Z
DTEND:20260529T190000Z
DTSTAMP:20260420T132146Z
UID:69e6286a0c54b
END:VEVENT
END:VCALENDAR